Workbook

Sheet BudgetActual
A1: Department | B1: Month | C1: BudgetAmount | D1: ActualAmount | E1: VariancePct | F1: MonthOrder
A2: Sales | B2: Apr | C2: 250000 | D2: 255000 | E2: =(D2-C2)/C2 | F2: 1
A3: Sales | B3: May | C3: 250000 | D3: 242500 | E3: =(D3-C3)/C3 | F3: 2
A4: Sales | B4: Jun | C4: 250000 | D4: 252500 | E4: =(D4-C4)/C4 | F4: 3
A5: Sales | B5: Jul | C5: 250000 | D5: 260000 | E5: =(D5-C5)/C5 | F5: 4
A6: Sales | B6: Aug | C6: 250000 | D6: 245000 | E6: =(D6-C6)/C6 | F6: 5
A7: Sales | B7: Sep | C7: 250000 | D7: 257500 | E7: =(D7-C7)/C7 | F7: 6
A8: Sales | B8: Oct | C8: 250000 | D8: 250000 | E8: =(D8-C8)/C8 | F8: 7
A9: Sales | B9: Nov | C9: 250000 | D9: 262500 | E9: =(D9-C9)/C9 | F9: 8
A10: Sales | B10: Dec | C10: 250000 | D10: 240000 | E10: =(D10-C10)/C10 | F10: 9
A11: Sales | B11: Jan | C11: 250000 | D11: 255000 | E11: =(D11-C11)/C11 | F11: 10
A12: Sales | B12: Feb | C12: 250000 | D12: 252500 | E12: =(D12-C12)/C12 | F12: 11
A13: Sales | B13: Mar | C13: 250000 | D13: 247500 | E13: =(D13-C13)/C13 | F13: 12
... A61: Payroll | B61: Mar | C61: 500000 | D61: 495000 | E61: =(D61-C61)/C61 | F61: 12

Sheet Variance Report
A1: Budget | B1: Apr | C1: May | D1: Jun | E1: Jul | F1: Aug | G1: Sep | H1: Oct | I1: Nov | J1: Dec | K1: Jan | L1: Feb | M1: Mar
A2: Sales | B2: =SUMIFS(BudgetActual!$C:$C,BudgetActual!$A:$A,$A2,BudgetActual!$B:$B,B$1) | C2: =SUMIFS(BudgetActual!$C:$C,BudgetActual!$A:$A,$A2,BudgetActual!$B:$B,C$1) | D2: =SUMIFS(BudgetActual!$C:$C,BudgetActual!$A:$A,$A2,BudgetActual!$B:$B,D$1) | E2: =SUMIFS(BudgetActual!$C:$C,BudgetActual!$A:$A,$A2,BudgetActual!$B:$B,E$1) | F2: =SUMIFS(BudgetActual!$C:$C,BudgetActual!$A:$A,$A2,BudgetActual!$B:$B,F$1) | G2: =SUMIFS(BudgetActual!$C:$C,BudgetActual!$A:$A,$A2,BudgetActual!$B:$B,G$1) | H2: =SUMIFS(BudgetActual!$C:$C,BudgetActual!$A:$A,$A2,BudgetActual!$B:$B,H$1) | I2: =SUMIFS(BudgetActual!$C:$C,BudgetActual!$A:$A,$A2,BudgetActual!$B:$B,I$1) | ... M2: =SUMIFS(BudgetActual!$C:$C,BudgetActual!$A:$A,$A2,BudgetActual!$B:$B,M$1)
A3: Marketing | B3: =SUMIFS(BudgetActual!$C:$C,BudgetActual!$A:$A,$A3,BudgetActual!$B:$B,B$1) | C3: =SUMIFS(BudgetActual!$C:$C,BudgetActual!$A:$A,$A3,BudgetActual!$B:$B,C$1) | D3: =SUMIFS(BudgetActual!$C:$C,BudgetActual!$A:$A,$A3,BudgetActual!$B:$B,D$1) | E3: =SUMIFS(BudgetActual!$C:$C,BudgetActual!$A:$A,$A3,BudgetActual!$B:$B,E$1) | F3: =SUMIFS(BudgetActual!$C:$C,BudgetActual!$A:$A,$A3,BudgetActual!$B:$B,F$1) | G3: =SUMIFS(BudgetActual!$C:$C,BudgetActual!$A:$A,$A3,BudgetActual!$B:$B,G$1) | H3: =SUMIFS(BudgetActual!$C:$C,BudgetActual!$A:$A,$A3,BudgetActual!$B:$B,H$1) | I3: =SUMIFS(BudgetActual!$C:$C,BudgetActual!$A:$A,$A3,BudgetActual!$B:$B,I$1) | ... M3: =SUMIFS(BudgetActual!$C:$C,BudgetActual!$A:$A,$A3,BudgetActual!$B:$B,M$1)
A4: Admin | B4: =SUMIFS(BudgetActual!$C:$C,BudgetActual!$A:$A,$A4,BudgetActual!$B:$B,B$1) | C4: =SUMIFS(BudgetActual!$C:$C,BudgetActual!$A:$A,$A4,BudgetActual!$B:$B,C$1) | D4: =SUMIFS(BudgetActual!$C:$C,BudgetActual!$A:$A,$A4,BudgetActual!$B:$B,D$1) | E4: =SUMIFS(BudgetActual!$C:$C,BudgetActual!$A:$A,$A4,BudgetActual!$B:$B,E$1) | F4: =SUMIFS(BudgetActual!$C:$C,BudgetActual!$A:$A,$A4,BudgetActual!$B:$B,F$1) | G4: =SUMIFS(BudgetActual!$C:$C,BudgetActual!$A:$A,$A4,BudgetActual!$B:$B,G$1) | H4: =SUMIFS(BudgetActual!$C:$C,BudgetActual!$A:$A,$A4,BudgetActual!$B:$B,H$1) | I4: =SUMIFS(BudgetActual!$C:$C,BudgetActual!$A:$A,$A4,BudgetActual!$B:$B,I$1) | ... M4: =SUMIFS(BudgetActual!$C:$C,BudgetActual!$A:$A,$A4,BudgetActual!$B:$B,M$1)
A5: Logistics | B5: =SUMIFS(BudgetActual!$C:$C,BudgetActual!$A:$A,$A5,BudgetActual!$B:$B,B$1) | C5: =SUMIFS(BudgetActual!$C:$C,BudgetActual!$A:$A,$A5,BudgetActual!$B:$B,C$1) | D5: =SUMIFS(BudgetActual!$C:$C,BudgetActual!$A:$A,$A5,BudgetActual!$B:$B,D$1) | E5: =SUMIFS(BudgetActual!$C:$C,BudgetActual!$A:$A,$A5,BudgetActual!$B:$B,E$1) | F5: =SUMIFS(BudgetActual!$C:$C,BudgetActual!$A:$A,$A5,BudgetActual!$B:$B,F$1) | G5: =SUMIFS(BudgetActual!$C:$C,BudgetActual!$A:$A,$A5,BudgetActual!$B:$B,G$1) | H5: =SUMIFS(BudgetActual!$C:$C,BudgetActual!$A:$A,$A5,BudgetActual!$B:$B,H$1) | I5: =SUMIFS(BudgetActual!$C:$C,BudgetActual!$A:$A,$A5,BudgetActual!$B:$B,I$1) | ... M5: =SUMIFS(BudgetActual!$C:$C,BudgetActual!$A:$A,$A5,BudgetActual!$B:$B,M$1)
A6: Payroll | B6: =SUMIFS(BudgetActual!$C:$C,BudgetActual!$A:$A,$A6,BudgetActual!$B:$B,B$1) | C6: =SUMIFS(BudgetActual!$C:$C,BudgetActual!$A:$A,$A6,BudgetActual!$B:$B,C$1) | D6: =SUMIFS(BudgetActual!$C:$C,BudgetActual!$A:$A,$A6,BudgetActual!$B:$B,D$1) | E6: =SUMIFS(BudgetActual!$C:$C,BudgetActual!$A:$A,$A6,BudgetActual!$B:$B,E$1) | F6: =SUMIFS(BudgetActual!$C:$C,BudgetActual!$A:$A,$A6,BudgetActual!$B:$B,F$1) | G6: =SUMIFS(BudgetActual!$C:$C,BudgetActual!$A:$A,$A6,BudgetActual!$B:$B,G$1) | H6: =SUMIFS(BudgetActual!$C:$C,BudgetActual!$A:$A,$A6,BudgetActual!$B:$B,H$1) | I6: =SUMIFS(BudgetActual!$C:$C,BudgetActual!$A:$A,$A6,BudgetActual!$B:$B,I$1) | ... M6: =SUMIFS(BudgetActual!$C:$C,BudgetActual!$A:$A,$A6,BudgetActual!$B:$B,M$1)
A8: Actual | B8: Apr | C8: May | D8: Jun | E8: Jul | F8: Aug | G8: Sep | H8: Oct | I8: Nov | J8: Dec | K8: Jan | L8: Feb | M8: Mar
A9: Sales | B9: =SUMIFS(BudgetActual!$D:$D,BudgetActual!$A:$A,$A9,BudgetActual!$B:$B,B$8) | C9: =SUMIFS(BudgetActual!$D:$D,BudgetActual!$A:$A,$A9,BudgetActual!$B:$B,C$8) | D9: =SUMIFS(BudgetActual!$D:$D,BudgetActual!$A:$A,$A9,BudgetActual!$B:$B,D$8) | E9: =SUMIFS(BudgetActual!$D:$D,BudgetActual!$A:$A,$A9,BudgetActual!$B:$B,E$8) | F9: =SUMIFS(BudgetActual!$D:$D,BudgetActual!$A:$A,$A9,BudgetActual!$B:$B,F$8) | G9: =SUMIFS(BudgetActual!$D:$D,BudgetActual!$A:$A,$A9,BudgetActual!$B:$B,G$8) | H9: =SUMIFS(BudgetActual!$D:$D,BudgetActual!$A:$A,$A9,BudgetActual!$B:$B,H$8) | I9: =SUMIFS(BudgetActual!$D:$D,BudgetActual!$A:$A,$A9,BudgetActual!$B:$B,I$8) | ... M9: =SUMIFS(BudgetActual!$D:$D,BudgetActual!$A:$A,$A9,BudgetActual!$B:$B,M$8)
A10: Marketing | B10: =SUMIFS(BudgetActual!$D:$D,BudgetActual!$A:$A,$A10,BudgetActual!$B:$B,B$8) | C10: =SUMIFS(BudgetActual!$D:$D,BudgetActual!$A:$A,$A10,BudgetActual!$B:$B,C$8) | D10: =SUMIFS(BudgetActual!$D:$D,BudgetActual!$A:$A,$A10,BudgetActual!$B:$B,D$8) | E10: =SUMIFS(BudgetActual!$D:$D,BudgetActual!$A:$A,$A10,BudgetActual!$B:$B,E$8) | F10: =SUMIFS(BudgetActual!$D:$D,BudgetActual!$A:$A,$A10,BudgetActual!$B:$B,F$8) | G10: =SUMIFS(BudgetActual!$D:$D,BudgetActual!$A:$A,$A10,BudgetActual!$B:$B,G$8) | H10: =SUMIFS(BudgetActual!$D:$D,BudgetActual!$A:$A,$A10,BudgetActual!$B:$B,H$8) | I10: =SUMIFS(BudgetActual!$D:$D,BudgetActual!$A:$A,$A10,BudgetActual!$B:$B,I$8) | ... M10: =SUMIFS(BudgetActual!$D:$D,BudgetActual!$A:$A,$A10,BudgetActual!$B:$B,M$8)
A11: Admin | B11: =SUMIFS(BudgetActual!$D:$D,BudgetActual!$A:$A,$A11,BudgetActual!$B:$B,B$8) | C11: =SUMIFS(BudgetActual!$D:$D,BudgetActual!$A:$A,$A11,BudgetActual!$B:$B,C$8) | D11: =SUMIFS(BudgetActual!$D:$D,BudgetActual!$A:$A,$A11,BudgetActual!$B:$B,D$8) | E11: =SUMIFS(BudgetActual!$D:$D,BudgetActual!$A:$A,$A11,BudgetActual!$B:$B,E$8) | F11: =SUMIFS(BudgetActual!$D:$D,BudgetActual!$A:$A,$A11,BudgetActual!$B:$B,F$8) | G11: =SUMIFS(BudgetActual!$D:$D,BudgetActual!$A:$A,$A11,BudgetActual!$B:$B,G$8) | H11: =SUMIFS(BudgetActual!$D:$D,BudgetActual!$A:$A,$A11,BudgetActual!$B:$B,H$8) | I11: =SUMIFS(BudgetActual!$D:$D,BudgetActual!$A:$A,$A11,BudgetActual!$B:$B,I$8) | ... M11: =SUMIFS(BudgetActual!$D:$D,BudgetActual!$A:$A,$A11,BudgetActual!$B:$B,M$8)
A12: Logistics | B12: =SUMIFS(BudgetActual!$D:$D,BudgetActual!$A:$A,$A12,BudgetActual!$B:$B,B$8) | C12: =SUMIFS(BudgetActual!$D:$D,BudgetActual!$A:$A,$A12,BudgetActual!$B:$B,C$8) | D12: =SUMIFS(BudgetActual!$D:$D,BudgetActual!$A:$A,$A12,BudgetActual!$B:$B,D$8) | E12: =SUMIFS(BudgetActual!$D:$D,BudgetActual!$A:$A,$A12,BudgetActual!$B:$B,E$8) | F12: =SUMIFS(BudgetActual!$D:$D,BudgetActual!$A:$A,$A12,BudgetActual!$B:$B,F$8) | G12: =SUMIFS(BudgetActual!$D:$D,BudgetActual!$A:$A,$A12,BudgetActual!$B:$B,G$8) | H12: =SUMIFS(BudgetActual!$D:$D,BudgetActual!$A:$A,$A12,BudgetActual!$B:$B,H$8) | I12: =SUMIFS(BudgetActual!$D:$D,BudgetActual!$A:$A,$A12,BudgetActual!$B:$B,I$8) | ... M12: =SUMIFS(BudgetActual!$D:$D,BudgetActual!$A:$A,$A12,BudgetActual!$B:$B,M$8)
A13: Payroll | B13: =SUMIFS(BudgetActual!$D:$D,BudgetActual!$A:$A,$A13,BudgetActual!$B:$B,B$8) | C13: =SUMIFS(BudgetActual!$D:$D,BudgetActual!$A:$A,$A13,BudgetActual!$B:$B,C$8) | D13: =SUMIFS(BudgetActual!$D:$D,BudgetActual!$A:$A,$A13,BudgetActual!$B:$B,D$8) | E13: =SUMIFS(BudgetActual!$D:$D,BudgetActual!$A:$A,$A13,BudgetActual!$B:$B,E$8) | F13: =SUMIFS(BudgetActual!$D:$D,BudgetActual!$A:$A,$A13,BudgetActual!$B:$B,F$8) | G13: =SUMIFS(BudgetActual!$D:$D,BudgetActual!$A:$A,$A13,BudgetActual!$B:$B,G$8) | H13: =SUMIFS(BudgetActual!$D:$D,BudgetActual!$A:$A,$A13,BudgetActual!$B:$B,H$8) | I13: =SUMIFS(BudgetActual!$D:$D,BudgetActual!$A:$A,$A13,BudgetActual!$B:$B,I$8) | ... M13: =SUMIFS(BudgetActual!$D:$D,BudgetActual!$A:$A,$A13,BudgetActual!$B:$B,M$8)
A15: Variance % (Actual vs Budget) | B15: Apr | C15: May | D15: Jun | E15: Jul | F15: Aug | G15: Sep | H15: Oct | I15: Nov | J15: Dec | K15: Jan | L15: Feb | M15: Mar
A16: Sales | B16: =(B9-B2)/B2 | C16: =(C9-C2)/C2 | D16: =(D9-D2)/D2 | E16: =(E9-E2)/E2 | F16: =(F9-F2)/F2 | G16: =(G9-G2)/G2 | H16: =(H9-H2)/H2 | I16: =(I9-I2)/I2 | ... M16: =(M9-M2)/M2
A17: Marketing | B17: =(B10-B3)/B3 | C17: =(C10-C3)/C3 | D17: =(D10-D3)/D3 | E17: =(E10-E3)/E3 | F17: =(F10-F3)/F3 | G17: =(G10-G3)/G3 | H17: =(H10-H3)/H3 | I17: =(I10-I3)/I3 | ... M17: =(M10-M3)/M3
A18: Admin | B18: =(B11-B4)/B4 | C18: =(C11-C4)/C4 | D18: =(D11-D4)/D4 | E18: =(E11-E4)/E4 | F18: =(F11-F4)/F4 | G18: =(G11-G4)/G4 | H18: =(H11-H4)/H4 | I18: =(I11-I4)/I4 | ... M18: =(M11-M4)/M4
A19: Logistics | B19: =(B12-B5)/B5 | C19: =(C12-C5)/C5 | D19: =(D12-D5)/D5 | E19: =(E12-E5)/E5 | F19: =(F12-F5)/F5 | G19: =(G12-G5)/G5 | H19: =(H12-H5)/H5 | I19: =(I12-I5)/I5 | ... M19: =(M12-M5)/M5
A20: Payroll | B20: =(B13-B6)/B6 | C20: =(C13-C6)/C6 | D20: =(D13-D6)/D6 | E20: =(E13-E6)/E6 | F20: =(F13-F6)/F6 | G20: =(G13-G6)/G6 | H20: =(H13-H6)/H6 | I20: =(I13-I6)/I6 | ... M20: =(M13-M6)/M6
A23: Year-to-Date Summary
A24: Through month (select) | B24: Sep
A25: Selected month order (1=Apr..12=Mar) | B25: =XLOOKUP($B$24,{"Apr","May","Jun","Jul","Aug","Sep","Oct","Nov","Dec","Jan","Feb","Mar"},{1,2,3,4,5,6,7,8,9,10,11,12})
A26: YTD Budget | B26: =SUMIFS(BudgetActual!C:C,BudgetActual!F:F,"<="&$B$25)
A27: YTD Actual | B27: =SUMIFS(BudgetActual!D:D,BudgetActual!F:F,"<="&$B$25)
A28: YTD Variance % | B28: =(B27-B26)/B26

Sheet Exceptions
A1: Exceptions (|Variance %| > 15%), extracted automatically
A3: Department | B3: Month | C3: Budget | D3: Actual | E3: Variance %
A4: =FILTER(BudgetActual!A2:E61,ABS(BudgetActual!E2:E61)>0.15)

Sheet Read Me
A1: Budget vs Actual Variance Template — Eduints
A3: Everything from before (live mixed-reference SUMIFS Budget/Actual grids, live Variance %, conditional formatting flagging |variance %| > 15%), plus:
A4: - A Year-to-Date Summary on the Variance Report sheet: pick a month from the dropdown, and YTD Budget/Actual/Variance % recalculate.
A5: - An Exceptions sheet that extracts every flagged row automatically using a live FILTER() dynamic array formula reading the VariancePct column on BudgetActual — no manual scanning of the grid required. Requires Excel 365 or Excel 2021+ (FILTER is a modern dynamic-array function).
A7: Replace the figures on "BudgetActual" with your own data — every grid, the YTD summary and the Exceptions list all recalculate automatically.
A9: Full explanation and worked example: https://eduints.com/guides/budget-vs-actual-variance-analysis-excel
